BEGIN:VCALENDAR
VERSION:2.0
PRODID:-//MSFDA - ECPv6.6.0.2//NONSGML v1.0//EN
CALSCALE:GREGORIAN
METHOD:PUBLISH
X-ORIGINAL-URL:https://msfda.ac.in
X-WR-CALDESC:Events for MSFDA
REFRESH-INTERVAL;VALUE=DURATION:PT1H
X-Robots-Tag:noindex
X-PUBLISHED-TTL:PT1H
BEGIN:VTIMEZONE
TZID:Asia/Kolkata
BEGIN:STANDARD
TZOFFSETFROM:+0530
TZOFFSETTO:+0530
TZNAME:IST
DTSTART:20250101T000000
END:STANDARD
END:VTIMEZONE
BEGIN:VEVENT
DTSTART;VALUE=DATE:20250204
DTEND;VALUE=DATE:20250210
DTSTAMP:20260421T162744
CREATED:20250123T120419Z
LAST-MODIFIED:20250124T111117Z
UID:8127-1738627200-1739145599@msfda.ac.in
SUMMARY:Flourishing of Youth
DESCRIPTION:Program Overview – The program aims to ignite a deeper search for purpose in life among youth. The focus is development of youth as individuals beyond being looked upon as customers or voters. The process involves nurturing young people to take control of their lives\, understand social problems and find their ways of addressing them. \nKnowledge Partner – Nirmaan- SEARCH\, Gadchiroli \nProgram Eligibility – Open to young teachers and students (age 18-29 years) from colleges \nMODE – 5 DAYS RESIDENTIAL \nProgram Venue – Shodahgram SEARCH\, Gadchiroli \nProgram Type – On-site \nContact person Mobile no- 7391000722 \nTo Register – Login > Programs > Centre for Leadership Development > Flourishing of Youth > more info > enroll
URL:https://msfda.ac.in/event/flourishing-of-youth/
LOCATION:Shodahgram SEARCH\, Gadchiroli\, Shodahgram SEARCH\,\, Gadchiroli\, Maharashtra\, India
CATEGORIES:MSFDA
ATTACH;FMTTYPE=image/jpeg:https://msfda.ac.in/wp-content/uploads/2025/01/Flyer-Flourishing-of-Youth.jpg
END:VEVENT
BEGIN:VEVENT
DTSTART;VALUE=DATE:20250207
DTEND;VALUE=DATE:20250210
DTSTAMP:20260421T162744
CREATED:20250124T080934Z
LAST-MODIFIED:20250124T080934Z
UID:8158-1738886400-1739145599@msfda.ac.in
SUMMARY:STUDENT CENTRICITY IN EDUCATION
DESCRIPTION:Program Overview – Student centricity focusses on students interests\, liking and catering to their learning needs. Student centricity provides an environment that facilitates students to take the responsibility of their own learning process. \nKnowledge Partner – Flame University\, Pune \nProgram Eligibility – Faculty from all domains and disciplines \nMODE – 3 DAYS IN PERSON \nProgram Venue – Smt Kasturbai Walchand College of Arts and Science Sangli Rajnemi Campus\, Wood House Road Sangli \nProgram Type – On-site \nContact person Mobile no- 7391000719 \nTo Register – Login > Programs > Centre Multidisciplinary Curriculum & Pedagogy > Student Centricity in Education > more info > enroll
URL:https://msfda.ac.in/event/student-centricity-in-education/
LOCATION:Smt Kasturbai Walchand College of Arts and Science Sangli Rajnemi Campus\, Wood House Road Sangli\, Smt Kasturbai Walchand College of Arts and Science Sangli Rajnemi Campus\,\, Sangli\, Maharashtra\, 416416\, India
CATEGORIES:MSFDA
ATTACH;FMTTYPE=image/jpeg:https://msfda.ac.in/wp-content/uploads/2025/01/STUDENT-CENTRICITY-IN-EDUCATION_flyer.jpg
END:VEVENT
END:VCALENDAR