BEGIN:VCALENDAR
VERSION:2.0
PRODID:-//MSFDA - ECPv6.6.0.2//NONSGML v1.0//EN
CALSCALE:GREGORIAN
METHOD:PUBLISH
X-ORIGINAL-URL:https://msfda.ac.in
X-WR-CALDESC:Events for MSFDA
REFRESH-INTERVAL;VALUE=DURATION:PT1H
X-Robots-Tag:noindex
X-PUBLISHED-TTL:PT1H
BEGIN:VTIMEZONE
TZID:Asia/Kolkata
BEGIN:STANDARD
TZOFFSETFROM:+0530
TZOFFSETTO:+0530
TZNAME:IST
DTSTART:20260101T000000
END:STANDARD
END:VTIMEZONE
BEGIN:VEVENT
DTSTART;VALUE=DATE:20260831
DTEND;VALUE=DATE:20260905
DTSTAMP:20260421T175605
CREATED:20260116T111642Z
LAST-MODIFIED:20260127T111330Z
UID:8829-1788134400-1788566399@msfda.ac.in
SUMMARY:ICT Leading through technology @MSFDA
DESCRIPTION:
URL:https://msfda.ac.in/event/ict-leading-through-technology-msfda/
CATEGORIES:Centre for Innovation and Cutting-edge Technology
END:VEVENT
BEGIN:VEVENT
DTSTART;VALUE=DATE:20260907
DTEND;VALUE=DATE:20260912
DTSTAMP:20260421T175605
CREATED:20260127T112032Z
LAST-MODIFIED:20260127T112032Z
UID:8913-1788739200-1789171199@msfda.ac.in
SUMMARY:ICT  - Startup Incubation Training Program @Outdoor
DESCRIPTION:
URL:https://msfda.ac.in/event/ict-startup-incubation-training-program-outdoor-5/
CATEGORIES:Centre for Innovation and Cutting-edge Technology
END:VEVENT
BEGIN:VEVENT
DTSTART;VALUE=DATE:20260928
DTEND;VALUE=DATE:20261001
DTSTAMP:20260421T175605
CREATED:20260127T112250Z
LAST-MODIFIED:20260127T112250Z
UID:8921-1790553600-1790812799@msfda.ac.in
SUMMARY:ICT - MOOCs & AI in education @MSFDA
DESCRIPTION:
URL:https://msfda.ac.in/event/ict-moocs-ai-in-education-msfda-3/
CATEGORIES:Centre for Innovation and Cutting-edge Technology
END:VEVENT
END:VCALENDAR