BEGIN:VCALENDAR
VERSION:2.0
PRODID:-//MSFDA - ECPv6.6.0.2//NONSGML v1.0//EN
CALSCALE:GREGORIAN
METHOD:PUBLISH
X-WR-CALNAME:MSFDA
X-ORIGINAL-URL:https://msfda.ac.in
X-WR-CALDESC:Events for MSFDA
REFRESH-INTERVAL;VALUE=DURATION:PT1H
X-Robots-Tag:noindex
X-PUBLISHED-TTL:PT1H
BEGIN:VTIMEZONE
TZID:Asia/Kolkata
BEGIN:STANDARD
TZOFFSETFROM:+0530
TZOFFSETTO:+0530
TZNAME:IST
DTSTART:20260101T000000
END:STANDARD
END:VTIMEZONE
BEGIN:VEVENT
DTSTART;VALUE=DATE:20261021
DTEND;VALUE=DATE:20261024
DTSTAMP:20260421T213058
CREATED:20260127T122045Z
LAST-MODIFIED:20260127T122045Z
UID:8941-1792540800-1792799999@msfda.ac.in
SUMMARY:ICT - E Content development @MSFDA
DESCRIPTION:
URL:https://msfda.ac.in/event/ict-e-content-development-msfda-3/
CATEGORIES:Centre for Innovation and Cutting-edge Technology
END:VEVENT
END:VCALENDAR