BEGIN:VCALENDAR
VERSION:2.0
PRODID:-//MSFDA - ECPv6.6.0.2//NONSGML v1.0//EN
CALSCALE:GREGORIAN
METHOD:PUBLISH
X-ORIGINAL-URL:https://msfda.ac.in
X-WR-CALDESC:Events for MSFDA
REFRESH-INTERVAL;VALUE=DURATION:PT1H
X-Robots-Tag:noindex
X-PUBLISHED-TTL:PT1H
BEGIN:VTIMEZONE
TZID:Asia/Kolkata
BEGIN:STANDARD
TZOFFSETFROM:+0530
TZOFFSETTO:+0530
TZNAME:IST
DTSTART:20260101T000000
END:STANDARD
END:VTIMEZONE
BEGIN:VEVENT
DTSTART;VALUE=DATE:20260117
DTEND;VALUE=DATE:20260118
DTSTAMP:20260421T161027
CREATED:20260112T111631Z
LAST-MODIFIED:20260112T111631Z
UID:8546-1768608000-1768694399@msfda.ac.in
SUMMARY:LD (PMUSHA) Administrative training for non-teaching staff@ MSFDA
DESCRIPTION:
URL:https://msfda.ac.in/event/ld-pmusha-administrative-training-for-non-teaching-staff-msfda/
CATEGORIES:Centre for Leadership Development
END:VEVENT
END:VCALENDAR