BEGIN:VCALENDAR
VERSION:2.0
PRODID:-//MSFDA - ECPv6.6.0.2//NONSGML v1.0//EN
CALSCALE:GREGORIAN
METHOD:PUBLISH
X-ORIGINAL-URL:https://msfda.ac.in
X-WR-CALDESC:Events for MSFDA
REFRESH-INTERVAL;VALUE=DURATION:PT1H
X-Robots-Tag:noindex
X-PUBLISHED-TTL:PT1H
BEGIN:VTIMEZONE
TZID:Asia/Kolkata
BEGIN:STANDARD
TZOFFSETFROM:+0530
TZOFFSETTO:+0530
TZNAME:IST
DTSTART:20260101T000000
END:STANDARD
END:VTIMEZONE
BEGIN:VEVENT
DTSTART;VALUE=DATE:20261207
DTEND;VALUE=DATE:20261212
DTSTAMP:20260421T193413
CREATED:20260128T061528Z
LAST-MODIFIED:20260128T061528Z
UID:8979-1796601600-1797033599@msfda.ac.in
SUMMARY:MCP - Research Methodology @MSFDA
DESCRIPTION:
URL:https://msfda.ac.in/event/mcp-research-methodology-msfda-4/
CATEGORIES:Centre for Multidisciplinary Curriculum and Pedagogy
END:VEVENT
END:VCALENDAR