BEGIN:VCALENDAR
VERSION:2.0
PRODID:-//MSFDA - ECPv6.6.0.2//NONSGML v1.0//EN
CALSCALE:GREGORIAN
METHOD:PUBLISH
X-WR-CALNAME:MSFDA
X-ORIGINAL-URL:https://msfda.ac.in
X-WR-CALDESC:Events for MSFDA
REFRESH-INTERVAL;VALUE=DURATION:PT1H
X-Robots-Tag:noindex
X-PUBLISHED-TTL:PT1H
BEGIN:VTIMEZONE
TZID:Asia/Kolkata
BEGIN:STANDARD
TZOFFSETFROM:+0530
TZOFFSETTO:+0530
TZNAME:IST
DTSTART:20250101T000000
END:STANDARD
END:VTIMEZONE
BEGIN:VEVENT
DTSTART;VALUE=DATE:20250526
DTEND;VALUE=DATE:20250605
DTSTAMP:20260425T174646
CREATED:20250506T115647Z
LAST-MODIFIED:20250506T115647Z
UID:8333-1748217600-1749081599@msfda.ac.in
SUMMARY:Startup incubation training program
DESCRIPTION:Program Overview – The two-phase program introduces processes\nrelated to the establishment and nurturing business incubation centers in\ncolleges\, thereby strengthening the entrepreneurial and innovation\necosystems. \nPhase 1\, face-to-face residential program\, has covers topics like\nunderstanding incubation basics and design thinking through a workshop\nmode. Along with visit to the riidl campus and interaction with startups. \nPhase 2\, online\, introduces tools for incubation events and activities along\nwith handholding support. \nKnowledge Partner – riidl\, Research Innovation Incubation Design Labs \nProgram Eligibility – Teachers (Permanent\, Contractual\, CHB\, Ad-hoc) from (Aided\, Unaided) institutes in the state of Maharashtra \nMODE – BLENDED phase 1 offline for 5 days and phase 2 online for 3 days \nProgram Venue – riidl\, Somaiya Vidyavihar Campus\, Mumbai \nProgram Type – BLENDED \nContact person Mobile no- 7391000721 \nTo Register – Login &gt; Programs &gt; Centre Multidisciplinary Curriculum &amp;\nPedagogy &gt; Startup incubation training program &gt; more info &gt; enroll
URL:https://msfda.ac.in/event/startup-incubation-training-program/
LOCATION:riidl\, Somaiya Vidyavihar Campus\, Mumbai\, Room No. 520\, Bhaskarachraya Building\, Somaiya Vidyavihar\, Vidyanagar\, Vidya Vihar East\, Vidyavihar\, Mumbai\, Maharashtra\, 400077\, India
CATEGORIES:MSFDA
ATTACH;FMTTYPE=image/jpeg:https://msfda.ac.in/wp-content/uploads/2025/05/Startup-incubation-training-program.jpg
END:VEVENT
BEGIN:VEVENT
DTSTART;VALUE=DATE:20250609
DTEND;VALUE=DATE:20250614
DTSTAMP:20260425T174646
CREATED:20250605T121554Z
LAST-MODIFIED:20250605T121554Z
UID:8362-1749427200-1749859199@msfda.ac.in
SUMMARY:Indian Knowledge System (Academic Leadership Program)
DESCRIPTION:Eligibility – Principal\, Vice-Principal\, Dean\,\nHoD\, Directors of HEIs in Maharashtra\nMode – 5 days residential \nTo register – Login > Programs > Centre Inclusion &\nDiversity > Indian Knowledge System\n(Academic Leadership Prog.) > more info >\nenroll
URL:https://msfda.ac.in/event/indian-knowledge-system-academic-leadership-program/
LOCATION:Govardhan EcoVillage\, Palghar\, Govardhan EcoVillage\, Palghar\, Palghar\, Maharashtra\, India
CATEGORIES:MSFDA
END:VEVENT
BEGIN:VEVENT
DTSTART;VALUE=DATE:20250616
DTEND;VALUE=DATE:20250621
DTSTAMP:20260425T174646
CREATED:20250605T122246Z
LAST-MODIFIED:20250605T122246Z
UID:8365-1750032000-1750463999@msfda.ac.in
SUMMARY:Design thinking\, Innovations & Entrepreneurship
DESCRIPTION:Eligibility – faculty of all higher and\ntechnical education disciplines\nMode – 5 days residential \nTo register – Login > Programs > Centre Inclusion &\nDiversity > Design thinking\, Innovations &\nEntrepreneurship > more info > enroll \nPartner – Vigyan Ashram
URL:https://msfda.ac.in/event/design-thinking-innovations-entrepreneurship/
LOCATION:KTHM College\, Nashik\, KTHM College\,\, Nashik\, Maharashtra\, India
CATEGORIES:MSFDA
END:VEVENT
BEGIN:VEVENT
DTSTART;VALUE=DATE:20250618
DTEND;VALUE=DATE:20250621
DTSTAMP:20260425T174646
CREATED:20250605T122621Z
LAST-MODIFIED:20250605T122621Z
UID:8368-1750204800-1750463999@msfda.ac.in
SUMMARY:Student Teacher Workshop on Critical Thinking in STEM (MS-DEED)
DESCRIPTION:Eligibility – Science & maths faculty\nmembers from Mumbai region\nMode – 3 days in person \nTo register – Registrations will open soon \nPartner – IISER\, Pune \n 
URL:https://msfda.ac.in/event/student-teacher-workshop-on-critical-thinking-in-stem-ms-deed/
LOCATION:Sophia College\, Mumbai\, Sophia College\, Mumbai\, Maharashtra\, India
CATEGORIES:MSFDA
END:VEVENT
BEGIN:VEVENT
DTSTART;VALUE=DATE:20250623
DTEND;VALUE=DATE:20250628
DTSTAMP:20260425T174646
CREATED:20250605T122847Z
LAST-MODIFIED:20250605T122847Z
UID:8371-1750636800-1751068799@msfda.ac.in
SUMMARY:Demystifying Cutting-edge Technologies
DESCRIPTION:Eligibility – faculty of all higher and\ntechnical education disciplines\nMode – 5 days residential \nTo register – Login > Programs > Center for InnovaƟon &\nCuƫng Edge Technology > DemysƟfying\nCuƫng Edge Tech > more info > enroll \nPartner – MSFDA Inhouse
URL:https://msfda.ac.in/event/demystifying-cutting-edge-technologies/
LOCATION:Maharashtra State Faculty Development Academy\, Model Colony\, Shivajinagar\, Pune\, Maharashtra\, 411016\, India
CATEGORIES:MSFDA
END:VEVENT
BEGIN:VEVENT
DTSTART;VALUE=DATE:20250630
DTEND;VALUE=DATE:20250705
DTSTAMP:20260425T174646
CREATED:20250605T123214Z
LAST-MODIFIED:20250605T123214Z
UID:8373-1751241600-1751673599@msfda.ac.in
SUMMARY:Exploring Multidisciplinarity: What\, why and how?
DESCRIPTION:Eligibility – faculty of all higher and\ntechnical education disciplines\nMode – 5 days residential \nTo register- Login > Programs > Center for\nMultidiciplinary Curriculum and Pedagodgy\n> Exploring Multidiciplinary > more info >\nenroll \nPartner – MSFDA Inhouse
URL:https://msfda.ac.in/event/exploring-multidisciplinarity-what-why-and-how-3/
LOCATION:Maharashtra State Faculty Development Academy\, Model Colony\, Shivajinagar\, Pune\, Maharashtra\, 411016\, India
CATEGORIES:MSFDA
END:VEVENT
BEGIN:VEVENT
DTSTART;VALUE=DATE:20250630
DTEND;VALUE=DATE:20250706
DTSTAMP:20260425T174646
CREATED:20250605T123545Z
LAST-MODIFIED:20250605T123545Z
UID:8375-1751241600-1751759999@msfda.ac.in
SUMMARY:Capacity Building SkillDevelopment Prog. for UGPG Teachers MSDEED (L1)
DESCRIPTION:Eligibility – UG-PG Science & Humanities\nTeachers\nMode – 6-days blended –\n3 days in person\, 1 day asynchronous\, 2\ndays online \nTo register – Login > Programs > Center for\nMultidiciplinary Curriculum and Pedagodgy\nMS-DEED IISER Pune > MSDEED Level 1 >\nmore info > enroll \nPartner – IISER\, Pune
URL:https://msfda.ac.in/event/capacity-building-skilldevelopment-prog-for-ugpg-teachers-msdeed-l1/
LOCATION:In person at SRTMUN\, Nanded\, In person at SRTMUN\, Nanded\, Maharashtra\, India
CATEGORIES:MSFDA
END:VEVENT
END:VCALENDAR